BEGIN:VCALENDAR
VERSION:2.0
PRODID:-//Funeral Home Consulting - ECPv6.15.20//NONSGML v1.0//EN
CALSCALE:GREGORIAN
METHOD:PUBLISH
X-WR-CALNAME:Funeral Home Consulting
X-ORIGINAL-URL:https://www.theforesightcompanies.com
X-WR-CALDESC:Events for Funeral Home Consulting
REFRESH-INTERVAL;VALUE=DURATION:PT1H
X-Robots-Tag:noindex
X-PUBLISHED-TTL:PT1H
BEGIN:VTIMEZONE
TZID:America/Phoenix
BEGIN:STANDARD
TZOFFSETFROM:-0700
TZOFFSETTO:-0700
TZNAME:MST
DTSTART:20240101T000000
END:STANDARD
END:VTIMEZONE
BEGIN:VTIMEZONE
TZID:America/Chicago
BEGIN:DAYLIGHT
TZOFFSETFROM:-0600
TZOFFSETTO:-0500
TZNAME:CDT
DTSTART:20240310T080000
END:DAYLIGHT
BEGIN:STANDARD
TZOFFSETFROM:-0500
TZOFFSETTO:-0600
TZNAME:CST
DTSTART:20241103T070000
END:STANDARD
BEGIN:DAYLIGHT
TZOFFSETFROM:-0600
TZOFFSETTO:-0500
TZNAME:CDT
DTSTART:20250309T080000
END:DAYLIGHT
BEGIN:STANDARD
TZOFFSETFROM:-0500
TZOFFSETTO:-0600
TZNAME:CST
DTSTART:20251102T070000
END:STANDARD
BEGIN:DAYLIGHT
TZOFFSETFROM:-0600
TZOFFSETTO:-0500
TZNAME:CDT
DTSTART:20260308T080000
END:DAYLIGHT
BEGIN:STANDARD
TZOFFSETFROM:-0500
TZOFFSETTO:-0600
TZNAME:CST
DTSTART:20261101T070000
END:STANDARD
END:VTIMEZONE
BEGIN:VTIMEZONE
TZID:America/Denver
BEGIN:DAYLIGHT
TZOFFSETFROM:-0700
TZOFFSETTO:-0600
TZNAME:MDT
DTSTART:20240310T090000
END:DAYLIGHT
BEGIN:STANDARD
TZOFFSETFROM:-0600
TZOFFSETTO:-0700
TZNAME:MST
DTSTART:20241103T080000
END:STANDARD
BEGIN:DAYLIGHT
TZOFFSETFROM:-0700
TZOFFSETTO:-0600
TZNAME:MDT
DTSTART:20250309T090000
END:DAYLIGHT
BEGIN:STANDARD
TZOFFSETFROM:-0600
TZOFFSETTO:-0700
TZNAME:MST
DTSTART:20251102T080000
END:STANDARD
BEGIN:DAYLIGHT
TZOFFSETFROM:-0700
TZOFFSETTO:-0600
TZNAME:MDT
DTSTART:20260308T090000
END:DAYLIGHT
BEGIN:STANDARD
TZOFFSETFROM:-0600
TZOFFSETTO:-0700
TZNAME:MST
DTSTART:20261101T080000
END:STANDARD
END:VTIMEZONE
BEGIN:VTIMEZONE
TZID:America/Los_Angeles
BEGIN:DAYLIGHT
TZOFFSETFROM:-0800
TZOFFSETTO:-0700
TZNAME:PDT
DTSTART:20240310T100000
END:DAYLIGHT
BEGIN:STANDARD
TZOFFSETFROM:-0700
TZOFFSETTO:-0800
TZNAME:PST
DTSTART:20241103T090000
END:STANDARD
BEGIN:DAYLIGHT
TZOFFSETFROM:-0800
TZOFFSETTO:-0700
TZNAME:PDT
DTSTART:20250309T100000
END:DAYLIGHT
BEGIN:STANDARD
TZOFFSETFROM:-0700
TZOFFSETTO:-0800
TZNAME:PST
DTSTART:20251102T090000
END:STANDARD
BEGIN:DAYLIGHT
TZOFFSETFROM:-0800
TZOFFSETTO:-0700
TZNAME:PDT
DTSTART:20260308T100000
END:DAYLIGHT
BEGIN:STANDARD
TZOFFSETFROM:-0700
TZOFFSETTO:-0800
TZNAME:PST
DTSTART:20261101T090000
END:STANDARD
END:VTIMEZONE
BEGIN:VTIMEZONE
TZID:America/New_York
BEGIN:DAYLIGHT
TZOFFSETFROM:-0500
TZOFFSETTO:-0400
TZNAME:EDT
DTSTART:20240310T070000
END:DAYLIGHT
BEGIN:STANDARD
TZOFFSETFROM:-0400
TZOFFSETTO:-0500
TZNAME:EST
DTSTART:20241103T060000
END:STANDARD
BEGIN:DAYLIGHT
TZOFFSETFROM:-0500
TZOFFSETTO:-0400
TZNAME:EDT
DTSTART:20250309T070000
END:DAYLIGHT
BEGIN:STANDARD
TZOFFSETFROM:-0400
TZOFFSETTO:-0500
TZNAME:EST
DTSTART:20251102T060000
END:STANDARD
BEGIN:DAYLIGHT
TZOFFSETFROM:-0500
TZOFFSETTO:-0400
TZNAME:EDT
DTSTART:20260308T070000
END:DAYLIGHT
BEGIN:STANDARD
TZOFFSETFROM:-0400
TZOFFSETTO:-0500
TZNAME:EST
DTSTART:20261101T060000
END:STANDARD
END:VTIMEZONE
BEGIN:VTIMEZONE
TZID:America/Detroit
BEGIN:DAYLIGHT
TZOFFSETFROM:-0500
TZOFFSETTO:-0400
TZNAME:EDT
DTSTART:20240310T070000
END:DAYLIGHT
BEGIN:STANDARD
TZOFFSETFROM:-0400
TZOFFSETTO:-0500
TZNAME:EST
DTSTART:20241103T060000
END:STANDARD
BEGIN:DAYLIGHT
TZOFFSETFROM:-0500
TZOFFSETTO:-0400
TZNAME:EDT
DTSTART:20250309T070000
END:DAYLIGHT
BEGIN:STANDARD
TZOFFSETFROM:-0400
TZOFFSETTO:-0500
TZNAME:EST
DTSTART:20251102T060000
END:STANDARD
BEGIN:DAYLIGHT
TZOFFSETFROM:-0500
TZOFFSETTO:-0400
TZNAME:EDT
DTSTART:20260308T070000
END:DAYLIGHT
BEGIN:STANDARD
TZOFFSETFROM:-0400
TZOFFSETTO:-0500
TZNAME:EST
DTSTART:20261101T060000
END:STANDARD
END:VTIMEZONE
BEGIN:VTIMEZONE
TZID:UTC
BEGIN:STANDARD
TZOFFSETFROM:+0000
TZOFFSETTO:+0000
TZNAME:UTC
DTSTART:20220101T000000
END:STANDARD
END:VTIMEZONE
BEGIN:VEVENT
DTSTART;VALUE=DATE:20250729
DTEND;VALUE=DATE:20250801
DTSTAMP:20260425T083740
CREATED:20250709T180026Z
LAST-MODIFIED:20250709T180026Z
UID:7616-1753747200-1754006399@www.theforesightcompanies.com
SUMMARY:2025 Washington State Death Care Professionals Convention
DESCRIPTION:Connect with Foresight at the 2025 Washington State Death Care Professionals Convention! Join us to network with funeral and cemetery professionals across Washington\, learn about the latest profession trends\, and discover how Foresight’s solutions can help your funeral home thrive. Doug Gober will be sharing his insights on July 30th. We look forward to connecting with you at this important event.
URL:https://www.theforesightcompanies.com/event/2025-washington-state-death-care-professionals-convention/
LOCATION:The Centennial by Davenport\, 303 W North River Dr\, Spokane\, WA\, 99201\, United States
CATEGORIES:Conferences
ATTACH;FMTTYPE=image/png:https://www.theforesightcompanies.com/wp-content/uploads/2025/07/Washington-2025.png
END:VEVENT
BEGIN:VEVENT
DTSTART;VALUE=DATE:20250617
DTEND;VALUE=DATE:20250619
DTSTAMP:20260425T083740
CREATED:20250129T180907Z
LAST-MODIFIED:20250129T180907Z
UID:7186-1750118400-1750291199@www.theforesightcompanies.com
SUMMARY:unConference
DESCRIPTION:
URL:https://www.theforesightcompanies.com/event/unconference/
LOCATION:Scottsdale\, AZ\, Scottsdale\, AZ\, United States
CATEGORIES:Conferences
ATTACH;FMTTYPE=image/png:https://www.theforesightcompanies.com/wp-content/uploads/2025/01/TFC_disrupt-media-group-logo.png
END:VEVENT
BEGIN:VEVENT
DTSTART;VALUE=DATE:20250608
DTEND;VALUE=DATE:20250612
DTSTAMP:20260425T083740
CREATED:20250129T175759Z
LAST-MODIFIED:20250129T175759Z
UID:7183-1749340800-1749686399@www.theforesightcompanies.com
SUMMARY:Annual Convention & Expo
DESCRIPTION:Connect with Foresight at the TFDA Annual Convention! Foresight will be attending the 2025 Texas Funeral Directors Association (TFDA) Annual Convention. Join us to network with funeral professionals across Texas\, learn about the latest industry trends\, and discover how Foresight’s solutions can help your funeral home thrive. We look forward to connecting with you at this important event.
URL:https://www.theforesightcompanies.com/event/annual-convention-expo-3/
LOCATION:Moody Gardens\, 1 Hope Blvd.\, Galveston\, TX\, 77554\, United States
CATEGORIES:Conferences
ATTACH;FMTTYPE=image/png:https://www.theforesightcompanies.com/wp-content/uploads/2023/10/TFDA-logo.png
END:VEVENT
BEGIN:VEVENT
DTSTART;VALUE=DATE:20250515
DTEND;VALUE=DATE:20250519
DTSTAMP:20260425T083740
CREATED:20250129T174929Z
LAST-MODIFIED:20250130T161952Z
UID:7179-1747267200-1747612799@www.theforesightcompanies.com
SUMMARY:Professional Women’s Conference
DESCRIPTION:Empowering Women in Funeral Service: Join Foresight at the NFDA Professional Women’s Conference! Foresight is excited to be part of the NFDA’s 2025 Professional Women’s Conference\, taking place May 15th – 18th in beautiful Santa Ana Pueblo\, New Mexico. This empowering event offers valuable networking opportunities\, insightful sessions\, and a chance to connect with women leaders in the funeral profession. Join us to celebrate the contributions of women and explore the future of funeral service.
URL:https://www.theforesightcompanies.com/event/professional-womens-conference/
LOCATION:Hyatt Regency Tamaya Resort and Spa\, 1300 Tuyuna Trail\, Santa Ana Pueblo\, NM\, 87004\, United States
CATEGORIES:Conferences
ATTACH;FMTTYPE=image/jpeg:https://www.theforesightcompanies.com/wp-content/uploads/2025/01/TFC_2025_NFDA-PWC.jpg
END:VEVENT
BEGIN:VEVENT
DTSTART;VALUE=DATE:20250430
DTEND;VALUE=DATE:20250504
DTSTAMP:20260425T083740
CREATED:20250129T173510Z
LAST-MODIFIED:20250129T173510Z
UID:7171-1745971200-1746316799@www.theforesightcompanies.com
SUMMARY:Annual Convention & Expo
DESCRIPTION:Join Foresight in Las Vegas for the newly rebranded ICCFA Experience\, the premier event for death care professionals. From April 30th to May 3rd\, 2025\, at the luxurious Mandalay Bay\, connect with industry leaders\, explore innovative solutions\, and discover the latest trends shaping the future of our profession. The ICCFA Experience offers a dynamic program packed with educational sessions\, networking opportunities\, and exciting events. Visit the Foresight booth to learn how our cutting-edge technology and services can help you enhance your offerings and better serve families. We look forward to seeing you there!
URL:https://www.theforesightcompanies.com/event/annual-convention-expo/
LOCATION:Mandalay Bay Resort and Casino\, 3950 S Las Vegas Blvd.\, Las Vegas\, NV\, 89119\, United States
CATEGORIES:Conferences
ATTACH;FMTTYPE=image/png:https://www.theforesightcompanies.com/wp-content/uploads/2025/01/TFC_ICCFA_AnnualConventionExpo-.png
END:VEVENT
BEGIN:VEVENT
DTSTART;VALUE=DATE:20250429
DTEND;VALUE=DATE:20250502
DTSTAMP:20260425T083740
CREATED:20250129T173941Z
LAST-MODIFIED:20250129T174130Z
UID:7175-1745884800-1746143999@www.theforesightcompanies.com
SUMMARY:Annual Convention & Expo
DESCRIPTION:Connect with Foresight at the OFDA Convention! Foresight will be at the 145th OFDA Convention and Exhibition in Columbus\, Ohio\, April 29th – May 1st\, 2025. Join us to explore the latest trends in the funeral profession\, connect with industry leaders\, and discover how Foresight’s innovative solutions can help your business thrive.
URL:https://www.theforesightcompanies.com/event/annual-convention-expo-2/
LOCATION:Hilton Columbus at Easton\, 3900 Chagrin Dr.\, Columbus\, OH\, 43219\, United States
CATEGORIES:Conferences
ATTACH;FMTTYPE=image/png:https://www.theforesightcompanies.com/wp-content/uploads/2025/01/TFC_OhioFuneralDirectorsAssociation.png
END:VEVENT
BEGIN:VEVENT
DTSTART;VALUE=DATE:20250331
DTEND;VALUE=DATE:20250403
DTSTAMP:20260425T083740
CREATED:20250129T172348Z
LAST-MODIFIED:20250129T172348Z
UID:7165-1743379200-1743638399@www.theforesightcompanies.com
SUMMARY:Annual Convention
DESCRIPTION:Foresight is excited to be a part of the Georgia Cemetery Association’s annual convention\, taking place March 31st – April 2nd\, 2025\, at the Hilton Marietta Hotel & Convention Center. This event brings together members of the GCA\, an organization dedicated to providing resources and support to its members and the wider community. Join us to learn more about Foresight’s innovative solutions for the cemetery industry and connect with other professionals. We look forward to discussing how we can help you enhance your services and better serve families.
URL:https://www.theforesightcompanies.com/event/annual-convention/
LOCATION:Hilton Marietta Hotel & Conference Center\, 500 Powder Springs St.\, Marietta\, GA\, 30064\, United States
CATEGORIES:Conferences
ATTACH;FMTTYPE=image/jpeg:https://www.theforesightcompanies.com/wp-content/uploads/2025/01/TFC_GeorgiaCemeteryAssociation.jpeg
END:VEVENT
BEGIN:VEVENT
DTSTART;VALUE=DATE:20250226
DTEND;VALUE=DATE:20250301
DTSTAMP:20260425T083740
CREATED:20250129T171703Z
LAST-MODIFIED:20250129T171803Z
UID:7160-1740528000-1740787199@www.theforesightcompanies.com
SUMMARY:Cremation Symposium
DESCRIPTION:Foresight is excited to be part of the CANA Cremation Symposium at The Paris Las Vegas! This dynamic event\, known for attracting innovative leaders in the cremation profession\, offers a concentrated day and a half of valuable sessions focused on improving business success at every step of family service and support. The 2025 Symposium promises fresh perspectives on challenges\, featuring strategic solution-finders\, innovative marketers\, and thought-provoking speakers. With an emphasis on intimate networking\, including dedicated time for work and play\, the Symposium provides a unique opportunity to connect with practitioners and suppliers.
URL:https://www.theforesightcompanies.com/event/cremation-symposium/
LOCATION:Paris Las Vegas\, 3655 S Las Vegas Blvd\, Las Vegas\, NV\, 89109\, United States
CATEGORIES:Conferences
ATTACH;FMTTYPE=image/png:https://www.theforesightcompanies.com/wp-content/uploads/2025/01/TFC_CANA_CremationSymposium-.png
END:VEVENT
BEGIN:VEVENT
DTSTART;VALUE=DATE:20250204
DTEND;VALUE=DATE:20250207
DTSTAMP:20260425T083740
CREATED:20250129T165056Z
LAST-MODIFIED:20250129T165611Z
UID:7148-1738627200-1738886399@www.theforesightcompanies.com
SUMMARY:DEAD Talks
DESCRIPTION:Foresight is excited to be part of DEAD Talks 2025\, hosted by the International Cemetery\, Cremation & Funeral Association (ICCFA)\, taking place February 4th – 6th at the Park MGM in Las Vegas\, Nevada. Marketing Manager Nicole Vullo will be speaking on how to “Build Your Brand.” This presentation will offer valuable insights and strategies for death care professionals looking to strengthen their brand presence in today’s market. This premier event offers valuable insights and networking opportunities for professionals in the death care industry. We look forward to seeing you there!
URL:https://www.theforesightcompanies.com/event/dead-talks/
LOCATION:Park MGM\, 3770 S Las Vegas Blvd\, Las Vegas\, NV\, 89109\, United States
CATEGORIES:Conferences
ATTACH;FMTTYPE=image/png:https://www.theforesightcompanies.com/wp-content/uploads/2025/01/TFC_ICCFA_DeadTalks-500-208.png
END:VEVENT
BEGIN:VEVENT
DTSTART;VALUE=DATE:20250203
DTEND;VALUE=DATE:20250206
DTSTAMP:20260425T083740
CREATED:20250129T170746Z
LAST-MODIFIED:20250129T170746Z
UID:7154-1738540800-1738799999@www.theforesightcompanies.com
SUMMARY:Winter Conference
DESCRIPTION:Foresight is excited to be a part of the Michigan Cemetery Association Winter Conference\, taking place February 3rd – 5th\, 2025\, at the Double Tree Hotel in Lansing. We will be showcasing our innovative solutions for the cemetery and funeral industry. Our experts will be available to answer your questions and demonstrate our products and services. We hope to see you there!
URL:https://www.theforesightcompanies.com/event/winter-conference/
LOCATION:DoubleTree by Hilton Lansing\, 111 N Grand Ave\, Lansing\, MI\, 48933\, United States
CATEGORIES:Conferences
ATTACH;FMTTYPE=image/jpeg:https://www.theforesightcompanies.com/wp-content/uploads/2025/01/TFC_MichiganCemeteryAssociation-750-90.jpg
END:VEVENT
BEGIN:VEVENT
DTSTART;VALUE=DATE:20241020
DTEND;VALUE=DATE:20241024
DTSTAMP:20260425T083740
CREATED:20240306T014636Z
LAST-MODIFIED:20240821T060422Z
UID:6635-1729382400-1729727999@www.theforesightcompanies.com
SUMMARY:2024 International Convention & Expo
DESCRIPTION:Join Foresight at the 2024 International Convention & Expo in New Orleans\, LA! This event attracts thousands of funeral service professionals world-wide for a networking\, educational event with the world’s largest floor Expo in the funeral service sector. Visit the Foresight team at Booth #2120 on the exhibitor floor to learn more about the team fist hand.
URL:https://www.theforesightcompanies.com/event/2024-international-convention-expo/
LOCATION:New Orleans\, New Orleans\, LA\, United States
CATEGORIES:Conferences
ATTACH;FMTTYPE=image/png:https://www.theforesightcompanies.com/wp-content/uploads/2021/06/national-funeral-directors-association-nfda-vector-logo.png
END:VEVENT
BEGIN:VEVENT
DTSTART;VALUE=DATE:20240925
DTEND;VALUE=DATE:20240929
DTSTAMP:20260425T083740
CREATED:20240306T005340Z
LAST-MODIFIED:20240306T005340Z
UID:6624-1727222400-1727567999@www.theforesightcompanies.com
SUMMARY:2024 Annual Meeting
DESCRIPTION:Join the celebration of Selected’s history and shape the future of funeral service. Benefit from dynamic speakers\, earn continuing education credits\, and enjoy exclusive members-only events. Break away from routine to gain fresh perspectives and explore chosen cities. Connect with fellow members for valuable insights and wisdom.
URL:https://www.theforesightcompanies.com/event/2024-annual-meeting/
LOCATION:Disney’s Grand Floridian Resort & Spa\, 4401 Floridian Way\, Lake Buena Vista\, FL\, 32830\, United States
CATEGORIES:Conferences
ATTACH;FMTTYPE=image/png:https://www.theforesightcompanies.com/wp-content/uploads/2024/03/SIFH-Logo-Tagline.png
END:VEVENT
BEGIN:VEVENT
DTSTART;VALUE=DATE:20240919
DTEND;VALUE=DATE:20240921
DTSTAMP:20260425T083740
CREATED:20240306T004725Z
LAST-MODIFIED:20240821T055119Z
UID:6615-1726704000-1726876799@www.theforesightcompanies.com
SUMMARY:Funeral IQ
DESCRIPTION:Foreight’s Chris Cruger will be one of the presenters during the Funeral IQ conference in Philadelphia\, PA on September 19-20. Chris will be speaking on the attitudes & behaviors that define you business model. This conference attracts industry leaders who are eager to network and share insights to market trends.
URL:https://www.theforesightcompanies.com/event/funeral-iq/
LOCATION:Live! Casino & Hotel\, 900 Packer Ave\, Philadelphia\, PA\, 19148\, United States
CATEGORIES:Conferences
ATTACH;FMTTYPE=image/png:https://www.theforesightcompanies.com/wp-content/uploads/2024/03/funerali.png
END:VEVENT
BEGIN:VEVENT
DTSTART;VALUE=DATE:20240911
DTEND;VALUE=DATE:20240914
DTSTAMP:20260425T083740
CREATED:20240305T043653Z
LAST-MODIFIED:20240306T015713Z
UID:6608-1726012800-1726271999@www.theforesightcompanies.com
SUMMARY:Cremation Innovation Convention
DESCRIPTION:CANA’s 106th Cremation Innovation Convention in Chicago blends fun\, education\, and industry insights. Join cremation professionals for idea exchange\, expert talks\, and product showcases. Families are welcome to explore Chicago during the event. Be sure to visit Foresight at our table in the exhibitor hall.
URL:https://www.theforesightcompanies.com/event/cremation-innovation-convention/
LOCATION:Fairmont Chicago – Millenium Park\, 200 N Columbus Dr\, Chicago\, IL\, 60601\, United States
CATEGORIES:Conferences
ATTACH;FMTTYPE=image/jpeg:https://www.theforesightcompanies.com/wp-content/uploads/2024/03/cana_2023.jpg
END:VEVENT
BEGIN:VEVENT
DTSTART;VALUE=DATE:20240729
DTEND;VALUE=DATE:20240802
DTSTAMP:20260425T083740
CREATED:20240305T042333Z
LAST-MODIFIED:20240305T042333Z
UID:6604-1722211200-1722556799@www.theforesightcompanies.com
SUMMARY:NFDA Leadership Conference
DESCRIPTION:This conference welcomes funeral professionals\, particularly encouraging young leaders. It covers association management\, leadership\, legal updates\, and provides ample networking opportunities. Attendees appreciate the valuable insights gained and find rejuvenation in their purpose.
URL:https://www.theforesightcompanies.com/event/nfda-leadership-conference/
LOCATION:Ponte Verda Beach\, FL\, Ponte Verda Beach\, FL\, 32082\, United States
CATEGORIES:Conferences
ATTACH;FMTTYPE=image/png:https://www.theforesightcompanies.com/wp-content/uploads/2021/06/national-funeral-directors-association-nfda-vector-logo.png
END:VEVENT
BEGIN:VEVENT
DTSTART;VALUE=DATE:20240719
DTEND;VALUE=DATE:20240725
DTSTAMP:20260425T083740
CREATED:20240524T232738Z
LAST-MODIFIED:20240524T232738Z
UID:6795-1721347200-1721865599@www.theforesightcompanies.com
SUMMARY:ICCFA University 2024
DESCRIPTION:ICCFA University 2024 assembles death care professionals for a transformative learning experience. Attendees will gain insights from top experts\, enhance their professional skills\, and forge valuable connections with industry peers. Highlighting the event\, our esteemed Doug Gober will deliver a presentation\, sharing crucial knowledge on pertinent topics. The program features a broad spectrum of courses and workshops tailored to meet the dynamic needs and challenges of the profession.
URL:https://www.theforesightcompanies.com/event/iccfa-university-2024/
LOCATION:Emory Conference Center Hotel\, 1615 Clifton Rd\, Atlanta\, GA\, 30329\, United States
CATEGORIES:Conferences
ATTACH;FMTTYPE=image/png:https://www.theforesightcompanies.com/wp-content/uploads/2024/05/image-3.png
END:VEVENT
BEGIN:VEVENT
DTSTART;VALUE=DATE:20240618
DTEND;VALUE=DATE:20240620
DTSTAMP:20260425T083740
CREATED:20240524T232209Z
LAST-MODIFIED:20240524T232209Z
UID:6791-1718668800-1718841599@www.theforesightcompanies.com
SUMMARY:2024 Funeral (Un)Conference
DESCRIPTION:Explore cutting-edge insights at the 2024 Funeral (Un)Conference. Join Chris Cruger\, CEO of Foresight\, who will be participating in a critical panel on finance on June 18. This innovative event offers a unique platform for leaders in the profession to engage and share knowledge.
URL:https://www.theforesightcompanies.com/event/2024-funeral-unconference/
LOCATION:Optima Kierland Apartments\, 7190 Optima-Kierland\, Scottsdale\, AZ\, United States
CATEGORIES:Conferences
ATTACH;FMTTYPE=image/jpeg:https://www.theforesightcompanies.com/wp-content/uploads/2024/05/image.jpeg
END:VEVENT
BEGIN:VEVENT
DTSTART;VALUE=DATE:20240609
DTEND;VALUE=DATE:20240613
DTSTAMP:20260425T083740
CREATED:20240524T231619Z
LAST-MODIFIED:20240524T231619Z
UID:6783-1717891200-1718236799@www.theforesightcompanies.com
SUMMARY:2024 PFDA Convention & Expo
DESCRIPTION:Attend the 2024 PFDA Convention & Expo for a comprehensive experience with experts in the profession. Highlights include a panel discussion and a presentation by Foresight’s Doug Gober on June 11 and June 12\, respectively. This event is an excellent opportunity for professional growth and networking.
URL:https://www.theforesightcompanies.com/event/2024-pfda-convention-expo/
LOCATION:Wind Creek Resort & Casino\, 77 Wind Creek Blvd\, Bethlehem\, PA\, 18015\, United States
CATEGORIES:Conferences
ATTACH;FMTTYPE=image/png:https://www.theforesightcompanies.com/wp-content/uploads/2024/05/image-2.png
END:VEVENT
BEGIN:VEVENT
DTSTART;VALUE=DATE:20240609
DTEND;VALUE=DATE:20240613
DTSTAMP:20260425T083740
CREATED:20240305T041413Z
LAST-MODIFIED:20240402T013224Z
UID:6596-1717891200-1718236799@www.theforesightcompanies.com
SUMMARY:138th Annual TFDA Convention & Expo
DESCRIPTION:Meet the Foresight team at our table during the 138th Annual TFDA Convention & Expo in Austin\, TX! The event\, coined as one of the most affordable of its kind\, is a great opportunity to expand your knowledge and network with industry leaders.
URL:https://www.theforesightcompanies.com/event/138th-annual-tfda-convention-expo/
LOCATION:Renaissance Hotel Austin\, 9721 Arboretum Blvd\, Austin\, TX\, 78759\, United States
CATEGORIES:Conferences
ATTACH;FMTTYPE=image/jpeg:https://www.theforesightcompanies.com/wp-content/uploads/2024/03/2024-Convention-Header-1.jpg
END:VEVENT
BEGIN:VEVENT
DTSTART;VALUE=DATE:20240604
DTEND;VALUE=DATE:20240607
DTSTAMP:20260425T083740
CREATED:20240524T223332Z
LAST-MODIFIED:20240524T223332Z
UID:6774-1717459200-1717718399@www.theforesightcompanies.com
SUMMARY:AFCCA 14th Annual Conference
DESCRIPTION:Join industry professionals at the AFCCA 14th Annual Conference\, where Foresight will be exhibiting. This event provides a prime opportunity for networking and learning about the latest trends.
URL:https://www.theforesightcompanies.com/event/afcca-14th-annual-conference/
LOCATION:AFCCA 14th Annual Conference\, 7965 E Cavasson Blvd\, Scottsdale\, AZ\, 85255\, United States
CATEGORIES:Conferences
ATTACH;FMTTYPE=image/png:https://www.theforesightcompanies.com/wp-content/uploads/2024/05/image-1.png
END:VEVENT
BEGIN:VEVENT
DTSTART;VALUE=DATE:20240604
DTEND;VALUE=DATE:20240606
DTSTAMP:20260425T083740
CREATED:20240302T044338Z
LAST-MODIFIED:20240302T044338Z
UID:6587-1717459200-1717631999@www.theforesightcompanies.com
SUMMARY:Funeral Service Business Plan 2024
DESCRIPTION:Join Foresight’s CEO\, Chris Cruger at the Funeral Service Business Plan 2024 conference. Elevate your funeral home business and benefit from expert-led sessions on industry trends\, marketing\, operations\, and personalized services. Expand your network and gain valuable insights from top experts.
URL:https://www.theforesightcompanies.com/event/funeral-service-business-plan-2024/
LOCATION:Crowne Plaza Hotel Providence/Warwick\, Rhode Island\, 801 Greenwich Ave\, Warwick\, RI\, 02886\, United States
CATEGORIES:Conferences
ATTACH;FMTTYPE=image/jpeg:https://www.theforesightcompanies.com/wp-content/uploads/2024/03/funeral-service-business-plan.jpg
END:VEVENT
BEGIN:VEVENT
DTSTART;VALUE=DATE:20240602
DTEND;VALUE=DATE:20240606
DTSTAMP:20260425T083740
CREATED:20240524T222325Z
LAST-MODIFIED:20240524T222325Z
UID:6769-1717286400-1717631999@www.theforesightcompanies.com
SUMMARY:2024 GFDA Summer Convention
DESCRIPTION:Join us at the prestigious Chateau Elan Winery & Resort for the 2024 GFDA Summer Convention. This engaging convention features a keynote presentation by Doug Gober on June 3rd\, offering valuable insights into the latest trends and practices of the profession.
URL:https://www.theforesightcompanies.com/event/2024-gfda-summer-convention/
LOCATION:Chateau Elan Winery & Resort\, 100 Rue Charlemagne Dr\, Braselton\, GA\, 30517\, United States
CATEGORIES:Conferences
ATTACH;FMTTYPE=image/png:https://www.theforesightcompanies.com/wp-content/uploads/2024/05/image.png
END:VEVENT
BEGIN:VEVENT
DTSTART;VALUE=DATE:20240423
DTEND;VALUE=DATE:20240426
DTSTAMP:20260425T083740
CREATED:20240302T042929Z
LAST-MODIFIED:20240302T043521Z
UID:6578-1713830400-1714089599@www.theforesightcompanies.com
SUMMARY:144th OFDA Convention and Exhibition
DESCRIPTION:The 144th OFDA Convention & Exhibition is hosted in Easton\, Columbus in 2024! The Foresight Comapny is eager for Chris Cruger (CEO) to share insights on recent research findings during his keynote titled\, A Snapshot into Your Consumer: Attitudes and Behaviors that Define Your Future Business Model (2024 FCCBS). Be sure to visit Foresight at our table in the exhibitor hall.
URL:https://www.theforesightcompanies.com/event/144th-ofda-convention-and-exhibition/
LOCATION:Hilton Columbus at Easton\, 3900 Chagrin Dr.\, Columbus\, OH\, 43219\, United States
CATEGORIES:Conferences
ATTACH;FMTTYPE=image/png:https://www.theforesightcompanies.com/wp-content/uploads/2024/03/2024_banner_OFDA.png
END:VEVENT
BEGIN:VEVENT
DTSTART;VALUE=DATE:20240410
DTEND;VALUE=DATE:20240414
DTSTAMP:20260425T083740
CREATED:20240302T041729Z
LAST-MODIFIED:20240302T043637Z
UID:6572-1712707200-1713052799@www.theforesightcompanies.com
SUMMARY:2024 ICCFA Annual Convention & Expo
DESCRIPTION:The Foresight Company’s very own\, Chris Cruger (CEO)\, will be in attendance and speaking as one of the keynote breakout speakers. Chris’ session\, titled ” A Snapshot into Your Consumer: Attitudes and Behaviors that Define Your Future Business Model (2024 FCCBS)” at the 2024 ICCFA Annual Convention & Exposition is one worth listening to\, as he will be discussing recent findings in research\, and sharing key knowledge to the evolving industry. If not able to attend the keynote session\, be sure to visit Foresight at booth #1229 to learn more about us.
URL:https://www.theforesightcompanies.com/event/2024-iccfa-annual-convention-expo/
LOCATION:JW Marriott Tampa Water Street & Tampa Convention Center\, 510 Water St\, Tampa\, FL\, 33602\, United States
CATEGORIES:Conferences
ATTACH;FMTTYPE=image/png:https://www.theforesightcompanies.com/wp-content/uploads/2024/03/AC24_Logo_RGB_Horizontal-3-1200x307-1.png
END:VEVENT
BEGIN:VEVENT
DTSTART;VALUE=DATE:20230910
DTEND;VALUE=DATE:20230914
DTSTAMP:20260425T083740
CREATED:20231107T234616Z
LAST-MODIFIED:20240302T043415Z
UID:6157-1694304000-1694649599@www.theforesightcompanies.com
SUMMARY:2023 NFDA International Convention & Expo
DESCRIPTION:Meet the Foresight team at Booth #1713. Join us and other deathcare professionals from across the world as we gather together for four incredible days of education and networking. As always\, you can expect business and deathcare leaders to provide world-class education for all attendees\, an expansive exhibit hall packed with the latest in products and services\, and tons of networking opportunities.
URL:https://www.theforesightcompanies.com/event/2023-nfda-international-convention-expo/
LOCATION:Las Vegas Convention Center West Hall\, 300 Convention Center Drive\, Las Vegas\, 89109\, United States
CATEGORIES:Conferences
ATTACH;FMTTYPE=image/png:https://www.theforesightcompanies.com/wp-content/uploads/2021/06/national-funeral-directors-association-nfda-vector-logo.png
END:VEVENT
END:VCALENDAR